BEGIN:VCALENDAR
CALSCALE:GREGORIAN
PRODID:-//Internet Scout//Metavus//EN
VERSION:2.0
BEGIN:VEVENT
UID:20100328T050000Z-21679@indigo.scout.wisc.edu
DTSTART;VALUE=DATE:20100328
DTEND;VALUE=DATE:20100401
CREATED:20130826T204413Z
SUMMARY:Innovations 2010
DTSTAMP:20130826T154413
DESCRIPTION:Innovations 2010 is the premier event for professionals dedicat
 ed to improving organizational teaching and learning\, and discovering new 
 approaches for enhancing the community college experience. The conference p
 rovides a tremendous forum for collaboration among academic experts and lea
 ding community college professionals\, while granting participants exclusiv
 e access to the most inventive and thought-provoking programs from around t
 he world.
URL:http://www.league.org/i2010/
LOCATION:Baltimore\, MD
END:VEVENT
END:VCALENDAR
