BEGIN:VCALENDAR
CALSCALE:GREGORIAN
PRODID:-//Internet Scout//Metavus//EN
VERSION:2.0
BEGIN:VEVENT
UID:20100219T060000Z-21749@indigo.scout.wisc.edu
DTSTART;VALUE=DATE:20100219
DTEND;VALUE=DATE:20100220
CREATED:20130826T204416Z
SUMMARY:Webinar: Data Acquisition
DTSTAMP:20130826T154416
DESCRIPTION:The National Science Foundation funded Advanced Technology Educ
 ation project: "eSyst: A Systems View of Electronics Education" has develop
 ed instructional materials to give students the information and practice th
 ey’ll need to show competency in each learning objective. In this webinar
  the eSyst Development Team will demonstrate how to implement the eSyst Ele
 ctronics System course “Data Acquisition”. This webinar will also explo
 re: • Enhancing student/technician enrollments in today''''s electronics 
 technology degree programs • How teaching a "systems" approach can revita
 lize your existing electronics curriculum • How the "systems view" can ai
 d in the retention of your students • Present overviews of the course''''
 s new systems resources • Provide current status of the project • Demon
 strate where to find the eSyst systems resources on the eSyst website Regis
 ter at http://www.matecnetworks.org/webreg/esyst.php
URL:http://www.matecnetworks.org/webreg/esyst.php
END:VEVENT
END:VCALENDAR
