BEGIN:VCALENDAR
CALSCALE:GREGORIAN
PRODID:-//Internet Scout//Metavus//EN
VERSION:2.0
BEGIN:VEVENT
UID:20140221T180000Z-28727@indigo.scout.wisc.edu
DTSTART:20140221T120000
DTEND:20140221T130000
CREATED:20140123T155946Z
SUMMARY:Mechatronics Webinar
DTSTAMP:20140123T100459
DESCRIPTION:NETWORKS produces FREE Online Webinars covering various topics 
 in advanced technology education. A Webinar is a seminar\, a workshop\, or 
 a lecture administered through the computer where participants and presente
 r can interact together. It is not just a one-way presentation\, but a two-
 way connection between presenter and attendees. The Webinars will be conduc
 ted through Collaborate\, a virtual meeting room accessible online from vir
 tually anywhere. Participants will be awarded a certificate of attendance u
 pon request.
URL:http://www.matecnetworks.org/growth.php
CATEGORIES:Webinar
END:VEVENT
END:VCALENDAR
