BEGIN:VCALENDAR
CALSCALE:GREGORIAN
PRODID:-//Internet Scout//Metavus//EN
VERSION:2.0
BEGIN:VEVENT
UID:20170215T180000Z-32313@indigo.scout.wisc.edu
DTSTART:20170215T120000
DTEND:20170215T140000
CREATED:20161129T210941Z
SUMMARY:Drones Flying Free
DTSTAMP:20161129T150941
DESCRIPTION:Session 2: When’s a lawyer needed? Understanding the legal is
 sues surrounding drones.
URL:https://attendee.gotowebinar.com/register/1484860043637603585
CATEGORIES:Webinar
END:VEVENT
END:VCALENDAR
