BEGIN:VCALENDAR
CALSCALE:GREGORIAN
PRODID:-//Internet Scout//Metavus//EN
VERSION:2.0
BEGIN:VEVENT
UID:20190610T130000Z-36024@indigo.scout.wisc.edu
DTSTART:20190610T080000
DTEND:20190614T160000
CREATED:20190226T205946Z
SUMMARY:Laser Materials Processing Workshop
DTSTAMP:20190509T110109
DESCRIPTION:This Laser Material Processing workshop is available now for op
 en enrollment\, and will include an introduction to light & lasers\, laser 
 safety\, and laser applications.  In addition\, there will be ample time t
 o do several hands-on laser material processing labs.  Attendees will have
  the opportunity to hear about the utilization of lasers in their every day
  operation from several industry representatives.  Time will be provided t
 o consider establishing a Laser & Optics Technology course along with optio
 ns for developing and conducting labs.  Tours of local companies will be h
 ighlighted.\n 
URL:http://www.midwestphotonics.org/
LOCATION:Midwest Photonics Education Center\, 525 Grandview Ave\, Ottumwa\,
  IA 52501
CATEGORIES:Workshop
END:VEVENT
END:VCALENDAR
