BEGIN:VCALENDAR
CALSCALE:GREGORIAN
PRODID:-//Internet Scout//Metavus//EN
VERSION:2.0
BEGIN:VEVENT
UID:20191015T140000Z-37404@indigo.scout.wisc.edu
DTSTART:20191015T090000
DTEND:20191017T170000
CREATED:20191004T192543Z
SUMMARY:NEON Science Summit
DTSTAMP:20191015T134328
DESCRIPTION:The NEON Science Summit will convene current and prospective us
 ers of data from the National Ecological Observatory Network (NEON) to ex
 plore major questions that can be addressed at continental scales. At this 
 workshop you will further your understanding of NEON data products and th
 eir potential use\, connect with other NEON data users\, and help drive que
 stions in ecology and environmental science.\n\nThis meeting will be con
 ducted in an ‘unconference style’ which is an alternative means of orga
 nizing meetings that allows participants to drive the agenda\, creating sub
 stantial freedom in themes and approaches. Example themes include identifyi
 ng plant species from space using NEON’s airborne observing platform data
 \, exploring patterns of biodiversity across the U.S.\, tracking how climat
 e change is affecting stream hydrology\, and understanding nutrient cycling
  in forests at continental scales. The unconference will initiate new colla
 borative working groups that take research ideas beyond the scope of the Su
 mmit.\n\nThis workshop will be great for early careerists who are looking
  to expand their network to colleagues at other institutions working on sim
 ilar research questions.
URL:https://www.colorado.edu/earthlab/2019/06/13/neon-science-summit
LOCATION:Sustainability\, Energy\, and Environment Community (SEEC)\, 4001 
 Discovery Dr\, Boulder\, CO 80303\, United States
CATEGORIES:Summit
END:VEVENT
END:VCALENDAR
