BEGIN:VCALENDAR
CALSCALE:GREGORIAN
PRODID:-//Internet Scout//Metavus//EN
VERSION:2.0
BEGIN:VEVENT
UID:20200301T060000Z-37710@indigo.scout.wisc.edu
DTSTART:20200301T000000
DTEND:20200304T000000
CREATED:20191220T151915Z
SUMMARY:Innovations Conference
DTSTAMP:20191220T092412
DESCRIPTION:The Innovations Conference\, now in its 22nd year\, is the for
 emost convening for professionals dedicated to improving and enhancing teac
 hing and learning\, leadership and management\, and the community college e
 xperience. This international event provides a forum for collaboration amo
 ng academic experts and thought leaders\, while granting participants exclu
 sive access to the most inventive and inspirational community college progr
 ams from around the world.\n
URL:https://www.league.org/inn2020
LOCATION:Hyatt Regency Seattle\, 808 Howell Street\, Seattle\, WA 98101
CATEGORIES:Conference
END:VEVENT
END:VCALENDAR
