BEGIN:VCALENDAR
CALSCALE:GREGORIAN
PRODID:-//Internet Scout//Metavus//EN
VERSION:2.0
BEGIN:VEVENT
UID:20210607T160000Z-39602@indigo.scout.wisc.edu
DTSTART:20210607T110000
DTEND:20210610T204500
CREATED:20210325T220457Z
SUMMARY:GeoEd'21
DTSTAMP:20210527T103651
DESCRIPTION:This all virtual event will feature keynotes and sessions on ge
 ospatial education\, Web GIS\, and ArcGIS Pro.\n\nKeynote speakers:\n\n
 John Nelson is a map maker\, software experience designer\, and writer at E
 sri. He works with the Living Atlas team\, creating geographic data\, web e
 xperiences\, moderately-educational blogs\, and mildly-instructional videos
 . He works in a small woodshed in Michigan and relishes the opportunity to 
 chat with other map folks.\n\nRaynah Kamau is a Kenyan native who has bee
 n living in the US since 2013. She is co-founder of Black Girls MAPP and wo
 rks as a strategic adviser for partners at Esri. Black Girls MAPP focuses o
 n community mapping and evangelizing GIS in underserved and underrepresente
 d communities. The group celebrates black women in the field of GIS and use
 s maps and apps to visualize social justice issues--using location intellig
 ence to amplify the voices of marginalized and unheard communities.
URL:https://geoed21-kctcs.hub.arcgis.com/
CATEGORIES:Conference
END:VEVENT
END:VCALENDAR
