BEGIN:VCALENDAR
CALSCALE:GREGORIAN
PRODID:-//Internet Scout//Metavus//EN
VERSION:2.0
BEGIN:VEVENT
UID:20230307T143000Z-42582@indigo.scout.wisc.edu
DTSTART;VALUE=DATE:20230307
DTEND;VALUE=DATE:20230311
CREATED:20230215T205605Z
SUMMARY:Esri Developer Summit
DTSTAMP:20230217T082234
DESCRIPTION:Join your global developer community in Palm Springs\, Californ
 ia\, for the Esri Developer Summit (DevSummit)--an event designed to show y
 ou how to build cutting-edge apps using advanced mapping technology. Explor
 e hundreds of hours of education in one location with technical workshops a
 nd sessions\, and learn development best practices from GIS experts.
URL:https://www.esri.com/en-us/about/events/devsummit/overview
LOCATION:Palm Springs Convention Center\, 277 N Avenida Caballeros\, Palm S
 prings\, CA 92262
CATEGORIES:Summit
END:VEVENT
END:VCALENDAR
