BEGIN:VCALENDAR
CALSCALE:GREGORIAN
PRODID:-//Internet Scout//Metavus//EN
VERSION:2.0
BEGIN:VEVENT
UID:20250425T130000Z-47401@indigo.scout.wisc.edu
DTSTART:20250425T080000
DTEND:20250426T180000
CREATED:20250124T165848Z
SUMMARY:2025 Northeast Cybersecurity Capabilities and Careers Summit
DTSTAMP:20250128T105723
DESCRIPTION:Five symposia provide the opportunity to learn\, experience\, a
 nd discuss the latest tools\, techniques\, and technologies for Teaching\, 
 Practicing\, Demonstrating\, and Showcasing Cybersecurity Capabilities.\n\n
 3CS includes a symposium in each of the five areas below.\n\n\n	Community C
 ollege Cyber Summit: The granddaddy and foundation of the 3CS program that 
 has welcomed those interested in experiential cybersecurity education for o
 ver a decade! Presentation sessions in classrooms with support for hybrid s
 essions about practice improvements for cybersecurity education\n	Cybersecu
 rity Science and Practice Symposium: Poster and classroom presentation sess
 ions with support for hybrid attendance about evidence-based professional a
 nd instructional cybersecurity practices -- the human factors of cybersecur
 ity\n	Cybersecurity Capability Maturity Symposium: Cybersecurity skill deve
 lopment workshops on specialized topics not typically taught in higher educ
 ation courses but required to develop the skills needed to advance in the c
 ybersecurity profession\n	Cyber Technology and Careers Symposium: Open spac
 es supporting an exhibit hall with demonstration sessions and a career fair
  - combining a job fair and a talent fair\n	Cyber Games\, Simulations\, and
  Competition Symposium: Individual and team-based interactive challenges an
 d opportunities for hands-on experience with or observation of demonstratio
 ns of skills in the Cyber Ready Arcade\, including the new Community Colleg
 e Collegiate Defense Competition (3CDC)\n
URL:https://nationalcyberwatchcenter.wildapricot.org/widget/event-6028372
LOCATION:Northampton Community College\, 3835 Green Pond Rd\, Bethlehem\, P
 A 18020
CATEGORIES:Summit
END:VEVENT
END:VCALENDAR
