BEGIN:VCALENDAR
CALSCALE:GREGORIAN
PRODID:-//Internet Scout//Metavus//EN
VERSION:2.0
BEGIN:VEVENT
UID:20250626T150000Z-48024@indigo.scout.wisc.edu
DTSTART:20250626T100000
DTEND:20250626T111500
CREATED:20250515T145349Z
SUMMARY:Mass Timber Webinar Series – Leading with Lumber: The DNR’s Mas
 s Timber Center and Michigan Red Pine
DTSTAMP:20250515T114528
DESCRIPTION:This webinar series\, co-produced by MiGBC + MassTimber@MSU\, w
 ill showcase four key projects across Michigan. It'll explore the origins o
 f each project\, their successes and challenges\, and how the project teams
  have continued to advance mass timber initiatives. Each building is unique
  in its approach and material usage. The series will cover four distinct bu
 ilding types: higher education\, K-12\, state-owned facilities\, and condom
 iniums. This series will be moderated by Sandra Lupien\, Director\, MassTim
 ber@MSU.\n\nThe third webinar in this new mass timber series is on June 26.
  This time\, it'll focus on the construction of Newberry's new Michigan Dep
 artment of Natural Resources (DNR) customer service center. This multi-mill
 ion dollar project is the first to utilize Michigan-sourced red pine in cro
 ss-laminated timber (CLT) panels for its entire structure.\n\nPanelists:\n\
 n\n	Michelle Crook\, MI DNR\, (Owner) \n	Anna Anderson\, Lord Aeck Sargent\
 , (Architect)\n	Dave Robson\, Walbridge\, (Construction Manager)\n	Russ Vaa
 gen\, Vaagen Timbers\, (Mass Timber Supplier)\n	Nate Gabel\, Clark Contract
 ing Services\, (Installer) \n\n\nModerator:\nSandra Lupien\, Director\, Mas
 sTimber@MSU
URL:https://www.canr.msu.edu/events/mass-timber-webinar-series-leading-with
 -lumber-the-dnr-s-mass-timber-center-and-michigan-red-pine-s-role
CATEGORIES:Webinar
END:VEVENT
END:VCALENDAR
