BEGIN:VCALENDAR
CALSCALE:GREGORIAN
PRODID:-//Internet Scout//Metavus//EN
VERSION:2.0
BEGIN:VEVENT
UID:20251029T050000Z-48046@indigo.scout.wisc.edu
DTSTART:20251029T000000
DTEND:20251031T000000
CREATED:20250519T142306Z
SUMMARY:2025 ATE Principal Investigators’ Conference
DTSTAMP:20250519T092457
DESCRIPTION:\n\nThe American Association of Community Colleges\, with the s
 upport of the National Science Foundation (NSF)\, will host the 32nd Nation
 al ATE Principal Investigators' Conference on October 29-31\, 2025\, in Was
 hington\, D.C.\n\nThe conference will bring together more than 850 NSF ATE 
 grantees and their project partners to focus on the critical issues related
  to advanced technological education. Conference participants represent ATE
  projects and centers across the U.S. including community colleges\, busine
 ss and industry\, secondary school systems\, and four-year colleges coverin
 g projects in a wide variety of areas\, such as information technology\, cy
 bersecurity\, engineering technology\, advanced manufacturing technologies\
 , and biotechnology.
URL:https://www.atepiconference.com
LOCATION:Omni Shoreham Hotel\, 2500 Calvert St NW\, Washington\, DC 20008
CATEGORIES:Conference
END:VEVENT
END:VCALENDAR
