BEGIN:VCALENDAR
CALSCALE:GREGORIAN
PRODID:-//Internet Scout//Metavus//EN
VERSION:2.0
BEGIN:VEVENT
UID:20250815T140000Z-48306@indigo.scout.wisc.edu
DTSTART:20250815T090000
DTEND:20250815T100000
CREATED:20250811T200202Z
SUMMARY:NCyTE Monthly Meeting
DTSTAMP:20250815T132101
DESCRIPTION:Adding Operational Technology (OT) to your Enterprise Risk Fram
 ework\n\nMaria O'Neill will share real-world lessons learned from helping b
 oth small and large organizations build and mature their cybersecurity stra
 tegies. From design and implementation to daily operations and defense\, th
 is session offers practical insights and proven approaches to securing OT e
 nvironments. Ideal for educators preparing the next generation of cybersecu
 rity professionals\, this webinar bridges academic knowledge with industry 
 application.\n\nPresenter\n\nMaria F. O'Neill is a CIO and senior technolog
 y executive with over two decades of IT leadership and consulting experienc
 e spanning mature multinational oil and gas and maritime companies to bouti
 que consulting start-ups. Maria is an avid change advocate\, recognized for
  understanding and liaising with business leaders to develop and implement 
 technology solutions that deliver impactful business value. She builds trus
 ted relationships with company decision-makers and technology management te
 ams and embraces a blended collaborative and empowering leadership style th
 at brings people and teams together.
URL:https://ncytecenter.wildapricot.org/event-6191981
CATEGORIES:Meeting
END:VEVENT
END:VCALENDAR
