BEGIN:VCALENDAR
CALSCALE:GREGORIAN
PRODID:-//Internet Scout//Metavus//EN
VERSION:2.0
BEGIN:VEVENT
UID:20250924T200000Z-48408@indigo.scout.wisc.edu
DTSTART:20250924T150000
DTEND:20250924T163000
CREATED:20250829T134004Z
SUMMARY:2025 NSF ATE Funding & Mentor-Connect Opportunities
DTSTAMP:20250829T084854
DESCRIPTION:Join Mentor-Connect Principal Investigator Pamela Silvers and N
 ational Science Foundation program officers to learn valuable information a
 bout NSF's Advanced Technological Education program funding and Mentor-Conn
 ect's mentoring for teams developing ATE proposals from 3 to 4:30 p.m. (EST
 ) on Wednesday\, September 24. The webinar on Zoom is free.\n\nThe session 
 will begin with an overview of the ATE program\, including available grant 
 funding tracks\, deadlines\, key funding variables\, and expert tips for de
 veloping a competitive proposal. In the second half\, explore Mentor-Connec
 t's system of support designed specifically for two-year college faculty an
 d institutions new to ATE funding. Learn about eligibility criteria\, how t
 o get started\, and the next steps to connect with experienced mentors and 
 resources that can guide you through the proposal process.
URL:https://us06web.zoom.us/webinar/register/WN_HW0RVi3XQACk6yd7jdUcrw#/reg
 istration
CATEGORIES:Webinar
END:VEVENT
END:VCALENDAR
